BEGIN:VCALENDAR
VERSION:2.0
PRODID:-//GOTCHA PROJECT - ECPv6.15.20//NONSGML v1.0//EN
CALSCALE:GREGORIAN
METHOD:PUBLISH
X-ORIGINAL-URL:https://gotchaproject.com
X-WR-CALDESC:Events for GOTCHA PROJECT
REFRESH-INTERVAL;VALUE=DURATION:PT1H
X-Robots-Tag:noindex
X-PUBLISHED-TTL:PT1H
BEGIN:VTIMEZONE
TZID:UTC
BEGIN:STANDARD
TZOFFSETFROM:+0000
TZOFFSETTO:+0000
TZNAME:UTC
DTSTART:20220101T000000
END:STANDARD
END:VTIMEZONE
BEGIN:VEVENT
DTSTART;TZID=UTC:20230911T130000
DTEND;TZID=UTC:20230911T160000
DTSTAMP:20260421T111647
CREATED:20230409T094310Z
LAST-MODIFIED:20230823T111840Z
UID:906-1694437200-1694448000@gotchaproject.com
SUMMARY:Sept 11th - Black Widow Harley Davidson\, Port Charlotte\, FL
DESCRIPTION:
URL:https://gotchaproject.com/event/sept-11th-port-charlotte-fl/
LOCATION:Bert’s Black Widow Harley-Davidson\, 2224 El Jobean Rd\, Port Charlotte\, Florida\, 33948
CATEGORIES:Charity Poker Run
ATTACH;FMTTYPE=image/jpeg:https://gotchaproject.com/wp-content/uploads/2023/04/Berts-Black-Widow.jpg
END:VEVENT
END:VCALENDAR