BEGIN:VCALENDAR
VERSION:2.0
PRODID:-//GOTCHA PROJECT - ECPv6.15.20//NONSGML v1.0//EN
CALSCALE:GREGORIAN
METHOD:PUBLISH
X-WR-CALNAME:GOTCHA PROJECT
X-ORIGINAL-URL:https://gotchaproject.com
X-WR-CALDESC:Events for GOTCHA PROJECT
REFRESH-INTERVAL;VALUE=DURATION:PT1H
X-Robots-Tag:noindex
X-PUBLISHED-TTL:PT1H
BEGIN:VTIMEZONE
TZID:America/New_York
BEGIN:DAYLIGHT
TZOFFSETFROM:-0500
TZOFFSETTO:-0400
TZNAME:EDT
DTSTART:20220313T070000
END:DAYLIGHT
BEGIN:STANDARD
TZOFFSETFROM:-0400
TZOFFSETTO:-0500
TZNAME:EST
DTSTART:20221106T060000
END:STANDARD
BEGIN:DAYLIGHT
TZOFFSETFROM:-0500
TZOFFSETTO:-0400
TZNAME:EDT
DTSTART:20230312T070000
END:DAYLIGHT
BEGIN:STANDARD
TZOFFSETFROM:-0400
TZOFFSETTO:-0500
TZNAME:EST
DTSTART:20231105T060000
END:STANDARD
BEGIN:DAYLIGHT
TZOFFSETFROM:-0500
TZOFFSETTO:-0400
TZNAME:EDT
DTSTART:20240310T070000
END:DAYLIGHT
BEGIN:STANDARD
TZOFFSETFROM:-0400
TZOFFSETTO:-0500
TZNAME:EST
DTSTART:20241103T060000
END:STANDARD
END:VTIMEZONE
BEGIN:VEVENT
DTSTART;TZID=America/New_York:20230914T150000
DTEND;TZID=America/New_York:20230914T180000
DTSTAMP:20260421T110414
CREATED:20230409T100850Z
LAST-MODIFIED:20230914T044605Z
UID:919-1694703600-1694714400@gotchaproject.com
SUMMARY:Sept 14th Savannah Harley Davidson
DESCRIPTION:
URL:https://gotchaproject.com/event/sept-14th-savannah-harley-davidson/
LOCATION:Savannah Harley Davidson\, 1 Fort Argyle Rd\, Savannah\, GA\, 31419\, United States
CATEGORIES:Charity Poker Run
ATTACH;FMTTYPE=image/jpeg:https://gotchaproject.com/wp-content/uploads/2023/08/Savannah-GA-Flyer-scaled.jpg
END:VEVENT
END:VCALENDAR