BEGIN:VCALENDAR
VERSION:2.0
PRODID:-//GOTCHA PROJECT - ECPv6.15.20//NONSGML v1.0//EN
CALSCALE:GREGORIAN
METHOD:PUBLISH
X-ORIGINAL-URL:https://gotchaproject.com
X-WR-CALDESC:Events for GOTCHA PROJECT
REFRESH-INTERVAL;VALUE=DURATION:PT1H
X-Robots-Tag:noindex
X-PUBLISHED-TTL:PT1H
BEGIN:VTIMEZONE
TZID:America/New_York
BEGIN:DAYLIGHT
TZOFFSETFROM:-0500
TZOFFSETTO:-0400
TZNAME:EDT
DTSTART:20220313T070000
END:DAYLIGHT
BEGIN:STANDARD
TZOFFSETFROM:-0400
TZOFFSETTO:-0500
TZNAME:EST
DTSTART:20221106T060000
END:STANDARD
BEGIN:DAYLIGHT
TZOFFSETFROM:-0500
TZOFFSETTO:-0400
TZNAME:EDT
DTSTART:20230312T070000
END:DAYLIGHT
BEGIN:STANDARD
TZOFFSETFROM:-0400
TZOFFSETTO:-0500
TZNAME:EST
DTSTART:20231105T060000
END:STANDARD
BEGIN:DAYLIGHT
TZOFFSETFROM:-0500
TZOFFSETTO:-0400
TZNAME:EDT
DTSTART:20240310T070000
END:DAYLIGHT
BEGIN:STANDARD
TZOFFSETFROM:-0400
TZOFFSETTO:-0500
TZNAME:EST
DTSTART:20241103T060000
END:STANDARD
END:VTIMEZONE
BEGIN:VEVENT
DTSTART;TZID=America/New_York:20230915T100000
DTEND;TZID=America/New_York:20230915T150000
DTSTAMP:20260421T111714
CREATED:20230409T101815Z
LAST-MODIFIED:20230817T090703Z
UID:923-1694772000-1694790000@gotchaproject.com
SUMMARY:Sept 15th Thunder Tower West Harley Davidson\, Morrow (GA)
DESCRIPTION:
URL:https://gotchaproject.com/event/sept-15th-low-country-harley-davidson-charleston-sc/
LOCATION:Thunder Tower West Harley Davidson\, 1384 Southlake Pkwy\, Morrow\, GA\, 30260\, United States
CATEGORIES:Charity Poker Run
ATTACH;FMTTYPE=image/png:https://gotchaproject.com/wp-content/uploads/2023/07/Thunder-Tower-Flyer.png
END:VEVENT
END:VCALENDAR