BEGIN:VCALENDAR
VERSION:2.0
PRODID:-//GOTCHA PROJECT - ECPv6.15.20//NONSGML v1.0//EN
CALSCALE:GREGORIAN
METHOD:PUBLISH
X-ORIGINAL-URL:https://gotchaproject.com
X-WR-CALDESC:Events for GOTCHA PROJECT
REFRESH-INTERVAL;VALUE=DURATION:PT1H
X-Robots-Tag:noindex
X-PUBLISHED-TTL:PT1H
BEGIN:VTIMEZONE
TZID:America/Chicago
BEGIN:DAYLIGHT
TZOFFSETFROM:-0600
TZOFFSETTO:-0500
TZNAME:CDT
DTSTART:20220313T080000
END:DAYLIGHT
BEGIN:STANDARD
TZOFFSETFROM:-0500
TZOFFSETTO:-0600
TZNAME:CST
DTSTART:20221106T070000
END:STANDARD
BEGIN:DAYLIGHT
TZOFFSETFROM:-0600
TZOFFSETTO:-0500
TZNAME:CDT
DTSTART:20230312T080000
END:DAYLIGHT
BEGIN:STANDARD
TZOFFSETFROM:-0500
TZOFFSETTO:-0600
TZNAME:CST
DTSTART:20231105T070000
END:STANDARD
BEGIN:DAYLIGHT
TZOFFSETFROM:-0600
TZOFFSETTO:-0500
TZNAME:CDT
DTSTART:20240310T080000
END:DAYLIGHT
BEGIN:STANDARD
TZOFFSETFROM:-0500
TZOFFSETTO:-0600
TZNAME:CST
DTSTART:20241103T070000
END:STANDARD
END:VTIMEZONE
BEGIN:VEVENT
DTSTART;TZID=America/Chicago:20230922T140000
DTEND;TZID=America/Chicago:20230922T170000
DTSTAMP:20260421T124054
CREATED:20230409T113426Z
LAST-MODIFIED:20230903T220801Z
UID:956-1695391200-1695402000@gotchaproject.com
SUMMARY:Sept 22nd Harley Davidson of Montgomery (AL)
DESCRIPTION:
URL:https://gotchaproject.com/event/sept-22nd-heart-of-dixie-harley-davidson-pelham-al/
LOCATION:Harley Davidson of Montgomery\, AL\, 655 N Eastern Blvd\, Montgomery\, AL\, 36117\, United States
CATEGORIES:Charity Poker Run
END:VEVENT
END:VCALENDAR