BEGIN:VCALENDAR
VERSION:2.0
PRODID:-//GOTCHA PROJECT - ECPv6.15.20//NONSGML v1.0//EN
CALSCALE:GREGORIAN
METHOD:PUBLISH
X-ORIGINAL-URL:https://gotchaproject.com
X-WR-CALDESC:Events for GOTCHA PROJECT
REFRESH-INTERVAL;VALUE=DURATION:PT1H
X-Robots-Tag:noindex
X-PUBLISHED-TTL:PT1H
BEGIN:VTIMEZONE
TZID:America/Chicago
BEGIN:DAYLIGHT
TZOFFSETFROM:-0600
TZOFFSETTO:-0500
TZNAME:CDT
DTSTART:20220313T080000
END:DAYLIGHT
BEGIN:STANDARD
TZOFFSETFROM:-0500
TZOFFSETTO:-0600
TZNAME:CST
DTSTART:20221106T070000
END:STANDARD
BEGIN:DAYLIGHT
TZOFFSETFROM:-0600
TZOFFSETTO:-0500
TZNAME:CDT
DTSTART:20230312T080000
END:DAYLIGHT
BEGIN:STANDARD
TZOFFSETFROM:-0500
TZOFFSETTO:-0600
TZNAME:CST
DTSTART:20231105T070000
END:STANDARD
BEGIN:DAYLIGHT
TZOFFSETFROM:-0600
TZOFFSETTO:-0500
TZNAME:CDT
DTSTART:20240310T080000
END:DAYLIGHT
BEGIN:STANDARD
TZOFFSETFROM:-0500
TZOFFSETTO:-0600
TZNAME:CST
DTSTART:20241103T070000
END:STANDARD
END:VTIMEZONE
BEGIN:VTIMEZONE
TZID:America/Denver
BEGIN:DAYLIGHT
TZOFFSETFROM:-0700
TZOFFSETTO:-0600
TZNAME:MDT
DTSTART:20220313T090000
END:DAYLIGHT
BEGIN:STANDARD
TZOFFSETFROM:-0600
TZOFFSETTO:-0700
TZNAME:MST
DTSTART:20221106T080000
END:STANDARD
BEGIN:DAYLIGHT
TZOFFSETFROM:-0700
TZOFFSETTO:-0600
TZNAME:MDT
DTSTART:20230312T090000
END:DAYLIGHT
BEGIN:STANDARD
TZOFFSETFROM:-0600
TZOFFSETTO:-0700
TZNAME:MST
DTSTART:20231105T080000
END:STANDARD
BEGIN:DAYLIGHT
TZOFFSETFROM:-0700
TZOFFSETTO:-0600
TZNAME:MDT
DTSTART:20240310T090000
END:DAYLIGHT
BEGIN:STANDARD
TZOFFSETFROM:-0600
TZOFFSETTO:-0700
TZNAME:MST
DTSTART:20241103T080000
END:STANDARD
END:VTIMEZONE
BEGIN:VEVENT
DTSTART;TZID=America/Chicago:20230928T190000
DTEND;TZID=America/Chicago:20230928T220000
DTSTAMP:20260421T141814
CREATED:20230409T120151Z
LAST-MODIFIED:20230817T085836Z
UID:973-1695927600-1695938400@gotchaproject.com
SUMMARY:Sept 28th Mancuso Harley Davidson Houston (TX)
DESCRIPTION:
URL:https://gotchaproject.com/event/sept-28th-mancuso-harley-davidson-houston-tx/
LOCATION:Mancuso Harley Davidson Crossroads\, 12710 Crossroads Park Dr.\, Houston\, TX\, 77065\, United States
CATEGORIES:Charity Poker Run
ATTACH;FMTTYPE=image/jpeg:https://gotchaproject.com/wp-content/uploads/2023/08/Mancuso-HD-Houston.jpg
END:VEVENT
BEGIN:VEVENT
DTSTART;TZID=America/Chicago:20230930T140000
DTEND;TZID=America/Chicago:20230930T170000
DTSTAMP:20260421T141814
CREATED:20230409T121547Z
LAST-MODIFIED:20230903T221243Z
UID:979-1696082400-1696093200@gotchaproject.com
SUMMARY:Sept 30th Gruene Harley Davidson New Braunfels (TX)
DESCRIPTION:
URL:https://gotchaproject.com/event/sept-30th-gruene-harley-davidson-new-braunfels-tx/
LOCATION:Gruene Harley Davidson\, 1288 Loop 337\, New Braunfels\, TX\, 78130\, United States
CATEGORIES:Charity Poker Run
ATTACH;FMTTYPE=image/jpeg:https://gotchaproject.com/wp-content/uploads/2023/04/New-Braunfels-TX.jpg
END:VEVENT
BEGIN:VEVENT
DTSTART;TZID=America/Chicago:20231002T140000
DTEND;TZID=America/Chicago:20231002T170000
DTSTAMP:20260421T141814
CREATED:20230409T122231Z
LAST-MODIFIED:20230903T215304Z
UID:983-1696255200-1696266000@gotchaproject.com
SUMMARY:Oct 2nd Cowboy Harley Davidson Austin (TX)
DESCRIPTION:
URL:https://gotchaproject.com/event/oct-2nd-cowboy-harley-davidson-austin-tx/
LOCATION:Cowboy Harley  Davidson\, 10917 S IH-35\, Austin\, TX\, 78747\, United States
CATEGORIES:Charity Poker Run
ATTACH;FMTTYPE=image/jpeg:https://gotchaproject.com/wp-content/uploads/2023/04/Cowboy-HD-Austin.jpg
END:VEVENT
BEGIN:VEVENT
DTSTART;TZID=America/Chicago:20231003T150000
DTEND;TZID=America/Chicago:20231003T180000
DTSTAMP:20260421T141814
CREATED:20230409T123223Z
LAST-MODIFIED:20230902T145505Z
UID:992-1696345200-1696356000@gotchaproject.com
SUMMARY:Oct 3rd Texas Harley Davidson Bedford (TX)
DESCRIPTION:
URL:https://gotchaproject.com/event/oct-3rd-texas-harley-davidson-bedford-tx/
LOCATION:Texas Harley Davidson\, 1 Texas Harley Way\, Bedford\, TX\, 76021\, United States
CATEGORIES:Charity Poker Run
ATTACH;FMTTYPE=image/jpeg:https://gotchaproject.com/wp-content/uploads/2023/04/Texas-Harley-Davidson.jpg
END:VEVENT
BEGIN:VEVENT
DTSTART;TZID=America/Chicago:20231005T150000
DTEND;TZID=America/Chicago:20231005T180000
DTSTAMP:20260421T141814
CREATED:20230409T123749Z
LAST-MODIFIED:20230903T215135Z
UID:996-1696518000-1696528800@gotchaproject.com
SUMMARY:Oct 5th Iron Nation Harley Edmond\, OK
DESCRIPTION:
URL:https://gotchaproject.com/event/oct-5th-iron-nation-harley-davidson-edmund-ok/
LOCATION:Iron Nation Harley Davidson\, 3433 S Broadway St\, Edmond\, OK\, 73013\, United States
CATEGORIES:Charity Poker Run
ATTACH;FMTTYPE=image/jpeg:https://gotchaproject.com/wp-content/uploads/2023/08/Iron-Nation-Flyer-Edmond-OK-scaled.jpg
END:VEVENT
BEGIN:VEVENT
DTSTART;TZID=America/Chicago:20231006T140000
DTEND;TZID=America/Chicago:20231006T170000
DTSTAMP:20260421T141814
CREATED:20230410T071511Z
LAST-MODIFIED:20230908T053022Z
UID:1050-1696600800-1696611600@gotchaproject.com
SUMMARY:Oct 6th Fort Smith Harley Davidson\, AR
DESCRIPTION:
URL:https://gotchaproject.com/event/oct-6th-pig-trail-harley-davidson-rogers-ar/
LOCATION:Fort Smith Harley Davidson\, Fort Smith\, AR\, 6304 S 36th St.\, Fort Smith\, AR\, 72908\, United States
CATEGORIES:Charity Poker Run
ATTACH;FMTTYPE=image/jpeg:https://gotchaproject.com/wp-content/uploads/2023/09/Fort-Smith-Flyer.jpeg
END:VEVENT
BEGIN:VEVENT
DTSTART;TZID=America/Chicago:20231007T140000
DTEND;TZID=America/Chicago:20231007T180000
DTSTAMP:20260421T141814
CREATED:20230409T124209Z
LAST-MODIFIED:20230817T085558Z
UID:1000-1696687200-1696701600@gotchaproject.com
SUMMARY:Oct 7th Twister City Harley Davidson Wichita (KS)
DESCRIPTION:
URL:https://gotchaproject.com/event/oct-6th-historic-harley-davidson-topeka-ks/
LOCATION:Twister City Harley Davidson\, 5427 Chuzy Dr.\, Wichita\, KS\, 67219\, United States
CATEGORIES:Charity Poker Run
ATTACH;FMTTYPE=image/png:https://gotchaproject.com/wp-content/uploads/2023/07/Twister-City-Flyer.png
END:VEVENT
BEGIN:VEVENT
DTSTART;TZID=America/Chicago:20231009T140000
DTEND;TZID=America/Chicago:20231009T170000
DTSTAMP:20260421T141814
CREATED:20230409T125013Z
LAST-MODIFIED:20230914T043840Z
UID:1005-1696860000-1696870800@gotchaproject.com
SUMMARY:Oct 9th Tripps Harley Davidson Amarillo (TX)
DESCRIPTION:
URL:https://gotchaproject.com/event/oct-9th-tripps-harley-davidson-amarillo-tx/
LOCATION:Tripps Harley  Davidson\, 6040 I-40 West\, Amarillo\, TX\, 79106\, United States
CATEGORIES:Charity Poker Run
ATTACH;FMTTYPE=image/jpeg:https://gotchaproject.com/wp-content/uploads/2023/09/Tripps-HD-Oct-9-scaled.jpg
END:VEVENT
BEGIN:VEVENT
DTSTART;TZID=America/Denver:20231010T140000
DTEND;TZID=America/Denver:20231010T170000
DTSTAMP:20260421T141814
CREATED:20230409T125917Z
LAST-MODIFIED:20230903T221429Z
UID:1009-1696946400-1696957200@gotchaproject.com
SUMMARY:Oct 10th Thunderbird Harley Davidson Albuquerque (NM)
DESCRIPTION:
URL:https://gotchaproject.com/event/oct-10th-thunderbird-harley-davidson-albuquerque-nm/
LOCATION:Thunderbird Harley Davidson\, 5000 Alameda Blvd. NE\, Albuquerque\, NM\, 87113\, United States
CATEGORIES:Charity Poker Run
ATTACH;FMTTYPE=image/jpeg:https://gotchaproject.com/wp-content/uploads/2023/04/Thunderbird-HD.jpg
END:VEVENT
BEGIN:VEVENT
DTSTART;TZID=America/Denver:20231011T140000
DTEND;TZID=America/Denver:20231011T170000
DTSTAMP:20260421T141814
CREATED:20230409T130338Z
LAST-MODIFIED:20230903T221606Z
UID:1013-1697032800-1697043600@gotchaproject.com
SUMMARY:Oct 11th Wicked West Harley Davidson Sante Fe (NM)
DESCRIPTION:
URL:https://gotchaproject.com/event/oct-11th-wicked-west-harley-davidson-sante-fe-nm/
LOCATION:Wicked West Harley Davidson\, 4360 Rodeo Road\, Sante Fe\, NM\, 87507\, United States
CATEGORIES:Charity Poker Run
ATTACH;FMTTYPE=image/jpeg:https://gotchaproject.com/wp-content/uploads/2023/04/Wicked-West-HD.jpg
END:VEVENT
BEGIN:VEVENT
DTSTART;TZID=America/Denver:20231020T100000
DTEND;TZID=America/Denver:20231020T170000
DTSTAMP:20260421T141814
CREATED:20230409T220202Z
LAST-MODIFIED:20230712T090753Z
UID:1039-1697796000-1697821200@gotchaproject.com
SUMMARY:Oct 20th Travel Day -Flagstaff (AZ)
DESCRIPTION:
URL:https://gotchaproject.com/event/oct-20th-flagstaff-az/
LOCATION:TX
CATEGORIES:Charity Poker Run
END:VEVENT
BEGIN:VEVENT
DTSTART;TZID=America/Denver:20231021T100000
DTEND;TZID=America/Denver:20231021T170000
DTSTAMP:20260421T141814
CREATED:20230409T220801Z
LAST-MODIFIED:20230817T085341Z
UID:1044-1697882400-1697907600@gotchaproject.com
SUMMARY:Oct 21-22nd Chandler Custom Cycles (AZ)
DESCRIPTION:
URL:https://gotchaproject.com/event/oct-22nd-harley-davidson-of-scottsdale-az/
LOCATION:Chandler Custom Cycles\, 2775 N. Arizona Ave.\, Chandler\, AZ\, 85225\, United States
CATEGORIES:Charity Poker Run
ATTACH;FMTTYPE=image/png:https://gotchaproject.com/wp-content/uploads/2023/07/Chandler-Custom-Flyer-Final-2.png
END:VEVENT
END:VCALENDAR